BEGIN:VCALENDAR
VERSION:2.0
PRODID:icalendar-ruby
CALSCALE:GREGORIAN
METHOD:PUBLISH
BEGIN:VEVENT
DTSTAMP:20260423T045855Z
UID:5-402561@fairfieldmethodistchurch.org
DTSTART:20261101T163000Z
DTEND:20261101T173000Z
CLASS:PUBLIC
CREATED:20260422T221244
DESCRIPTION:Sunday Worship
LAST-MODIFIED:20260422T221244
LOCATION:
SUMMARY:Sunday Worship
URL;VALUE=URI:https://fairfieldmethodistchurch.org/events/sunday-worship/20
 26-11-01
END:VEVENT
END:VCALENDAR
