BEGIN:VCALENDAR
VERSION:2.0
PRODID:icalendar-ruby
CALSCALE:GREGORIAN
METHOD:PUBLISH
BEGIN:VEVENT
DTSTAMP:20260423T005742Z
UID:5-402298@fairfieldmethodistchurch.org
DTSTART:20261018T153000Z
DTEND:20261018T163000Z
CLASS:PUBLIC
CREATED:20260422T191820
DESCRIPTION:Sunday Worship
LAST-MODIFIED:20260422T191820
LOCATION:
SUMMARY:Sunday Worship
URL;VALUE=URI:https://fairfieldmethodistchurch.org/events/sunday-worship/20
 26-10-18
END:VEVENT
END:VCALENDAR
