BEGIN:VCALENDAR
VERSION:2.0
PRODID:icalendar-ruby
CALSCALE:GREGORIAN
METHOD:PUBLISH
BEGIN:VEVENT
DTSTAMP:20260422T193522Z
UID:5-401773@fairfieldmethodistchurch.org
DTSTART:20260927T153000Z
DTEND:20260927T163000Z
CLASS:PUBLIC
CREATED:20260422T133127
DESCRIPTION:Sunday Worship
LAST-MODIFIED:20260422T133127
LOCATION:
SUMMARY:Sunday Worship
URL;VALUE=URI:https://fairfieldmethodistchurch.org/events/sunday-worship/20
 26-09-27
END:VEVENT
END:VCALENDAR
