BEGIN:VCALENDAR
VERSION:2.0
PRODID:icalendar-ruby
CALSCALE:GREGORIAN
METHOD:PUBLISH
BEGIN:VEVENT
DTSTAMP:20260419T231602Z
UID:9-395776@fairfieldmethodistchurch.org
DTSTART:20270105T160000Z
DTEND:20270105T200000Z
CLASS:PUBLIC
CREATED:20260418T224605
DESCRIPTION:
LAST-MODIFIED:20260418T224605
LOCATION:
SUMMARY:MANNA for Fairfield 
URL;VALUE=URI:https://fairfieldmethodistchurch.org/events/manna-for-fairfie
 ld/2027-01-05
ATTACH;FILENAME=MANNA-Truck.jpeg;FMTTYPE=image/jpeg:https://dq5pwpg1q8ru0.c
 loudfront.net/2026/04/19/03/46/05/7ab2c5f0-dd4b-4c13-abac-fa500f5cb62f/MAN
 NA-Truck.jpeg
END:VEVENT
END:VCALENDAR
