BEGIN:VCALENDAR
VERSION:2.0
PRODID:icalendar-ruby
CALSCALE:GREGORIAN
METHOD:PUBLISH
BEGIN:VEVENT
DTSTAMP:20260419T231406Z
UID:8-395757@fairfieldmethodistchurch.org
DTSTART:20261221T150000Z
DTEND:20261221T160000Z
CLASS:PUBLIC
CREATED:20260418T222954
DESCRIPTION:
LAST-MODIFIED:20260418T222954
LOCATION:Church Kitchen
SUMMARY:Drive Thru Meal Prep
URL;VALUE=URI:https://fairfieldmethodistchurch.org/events/drive-thru-meal-p
 rep/2026-12-21
END:VEVENT
END:VCALENDAR
