BEGIN:VCALENDAR
VERSION:2.0
PRODID:icalendar-ruby
CALSCALE:GREGORIAN
METHOD:PUBLISH
BEGIN:VEVENT
DTSTAMP:20260419T212135Z
UID:8-395756@fairfieldmethodistchurch.org
DTSTART:20261116T150000Z
DTEND:20261116T160000Z
CLASS:PUBLIC
CREATED:20260418T222953
DESCRIPTION:
LAST-MODIFIED:20260418T222953
LOCATION:Church Kitchen
SUMMARY:Drive Thru Meal Prep
URL;VALUE=URI:https://fairfieldmethodistchurch.org/events/drive-thru-meal-p
 rep/2026-11-16
END:VEVENT
END:VCALENDAR
