BEGIN:VCALENDAR
VERSION:2.0
PRODID:icalendar-ruby
CALSCALE:GREGORIAN
METHOD:PUBLISH
BEGIN:VEVENT
DTSTAMP:20260419T134710Z
UID:8-395752@fairfieldmethodistchurch.org
DTSTART:20260720T140000Z
DTEND:20260720T150000Z
CLASS:PUBLIC
CREATED:20260418T222953
DESCRIPTION:
LAST-MODIFIED:20260418T222953
LOCATION:Church Kitchen
SUMMARY:Drive Thru Meal Prep
URL;VALUE=URI:https://fairfieldmethodistchurch.org/events/drive-thru-meal-p
 rep/2026-07-20
END:VEVENT
END:VCALENDAR
